BEGIN:VCALENDAR
VERSION:2.0
PRODID:icalendar-ruby
CALSCALE:GREGORIAN
METHOD:PUBLISH
BEGIN:VEVENT
DTSTAMP:20260422T181407Z
UID:57-1531708@faithphx.org
DTSTART:20261101T140000Z
DTEND:20261101T150000Z
CLASS:PUBLIC
CREATED:20260422T133249
DESCRIPTION:Equip U
LAST-MODIFIED:20260422T133249
LOCATION:Faith of Phoenixville
SUMMARY:Equip U
URL;VALUE=URI:https://faithphx.org/events/equip-u/2026-11-01
END:VEVENT
END:VCALENDAR
