BEGIN:VCALENDAR
VERSION:2.0
PRODID:icalendar-ruby
CALSCALE:GREGORIAN
METHOD:PUBLISH
BEGIN:VEVENT
DTSTAMP:20260422T165309Z
UID:57-1530781@faithphx.org
DTSTART:20261025T130000Z
DTEND:20261025T140000Z
CLASS:PUBLIC
CREATED:20260422T103730
DESCRIPTION:Equip U
LAST-MODIFIED:20260422T103730
LOCATION:Faith of Phoenixville
SUMMARY:Equip U
URL;VALUE=URI:https://faithphx.org/events/equip-u/2026-10-25
END:VEVENT
END:VCALENDAR
